BEGIN:VCALENDAR
VERSION:2.0
PRODID:-//Fuel What Matters - ECPv6.14.2//NONSGML v1.0//EN
CALSCALE:GREGORIAN
METHOD:PUBLISH
X-WR-CALNAME:Fuel What Matters
X-ORIGINAL-URL:https://www.fuelwhatmatters.org
X-WR-CALDESC:Events for Fuel What Matters
REFRESH-INTERVAL;VALUE=DURATION:PT1H
X-Robots-Tag:noindex
X-PUBLISHED-TTL:PT1H
BEGIN:VTIMEZONE
TZID:UTC
BEGIN:STANDARD
TZOFFSETFROM:+0000
TZOFFSETTO:+0000
TZNAME:UTC
DTSTART:20240101T000000
END:STANDARD
END:VTIMEZONE
BEGIN:VEVENT
DTSTART;TZID=UTC:20250205T160000
DTEND;TZID=UTC:20250205T170000
DTSTAMP:20260419T125243
CREATED:20250205T184011Z
LAST-MODIFIED:20250205T184223Z
UID:3177-1738771200-1738774800@www.fuelwhatmatters.org
SUMMARY:Eastern NC Electric School Bus & Charging Infrastructure Webinar
DESCRIPTION:This free webinar is intended for Superintendents\, School Bus Fleet Managers\, Asset Managers\, Budget Officers\, and those who want to learn more about: \n\nThe benefits of electric school buses for schools\, kids\, and communities\nSizes and types of electric school buses and their charging systems\nFunds and financing to support electric school bus infrastructure purchases\nResources and technical support\nExamples of electric school buses in Eastern North Carolina\n\nREGISTER HERE
URL:https://www.fuelwhatmatters.org/event/eastern-nc-electric-school-bus-charging-infrastructure-webinar/
CATEGORIES:Featured Home Event
END:VEVENT
BEGIN:VEVENT
DTSTART;TZID=UTC:20241120T140000
DTEND;TZID=UTC:20241120T153000
DTSTAMP:20260419T125243
CREATED:20241105T185713Z
LAST-MODIFIED:20241105T185713Z
UID:3120-1732111200-1732116600@www.fuelwhatmatters.org
SUMMARY:2024 Sustainable Fleet Technology Webinar Series: Key Performance Indicators for Sustainable Fleets
DESCRIPTION:As fleets receive mandates for carbon reduction\, there are opportunities to build partnerships with sustainability departments as advocates instead of being perceived as a primary source of emissions. This webinar will review how: \n\n\nEstablishing KPIs can guide fleet management as a sustainability practice and garner support by providing measurable results to an organization’s triple bottom line; \n\n\nTelematics can align with the KPIs to consolidate the data for in-depth reports and visual dashboards; and \n\n\nDashboards provide a quick visual reference to review success or areas for improvement and can be adapted for various audiences and their interests\, such as demonstrating carbon reduction for sustainability managers and identifying financial savings for government leadership and elected officials\, while empowering managers with more details contributing to operational success. \n\n\nNCCETC’s Clean Transportation team is co-hosting this event.
URL:https://www.fuelwhatmatters.org/event/2024-sustainable-fleet-technology-webinar-series-key-performance-indicators-for-sustainable-fleets/
CATEGORIES:Featured Home Event
ORGANIZER;CN="NAFA Fleet Management Association":MAILTO:info@nafa.org
END:VEVENT
BEGIN:VEVENT
DTSTART;TZID=UTC:20241106T140000
DTEND;TZID=UTC:20241106T153000
DTSTAMP:20260419T125243
CREATED:20241105T174748Z
LAST-MODIFIED:20241105T174748Z
UID:3116-1730901600-1730907000@www.fuelwhatmatters.org
SUMMARY:2024 Sustainable Fleet Technology Webinar Series: Signal Prioritization in Transit and Emergency Vehicles
DESCRIPTION:In urban environments\, timely response for emergency services and reliable transit schedules are critical. This webinar will delve into innovative signal prioritization techniques that can significantly improve traffic flow and reduce response times for emergency vehicles\, as well as enhance the reliability of public transit systems. \nNCCETC’s Clean Transportation team is co-hosting this event.
URL:https://www.fuelwhatmatters.org/event/2024-sustainable-fleet-technology-webinar-series-signal-prioritization-in-transit-and-emergency-vehicles/
CATEGORIES:Featured Home Event
END:VEVENT
BEGIN:VEVENT
DTSTART;TZID=UTC:20241104T140000
DTEND;TZID=UTC:20241104T150000
DTSTAMP:20260419T125243
CREATED:20241105T190354Z
LAST-MODIFIED:20241105T190354Z
UID:3122-1730728800-1730732400@www.fuelwhatmatters.org
SUMMARY:2024 Sustainable Fleet Technology Webinar Series: Off-road Electric Equipment
DESCRIPTION:In this session\, we will dive into the various types of electric off-road machinery available today\, their best use cases\, and the essential logistics of charging these innovative tools. As industries shift towards more sustainable practices\, understanding electric options can enhance efficiency and reduce environmental impact. \nNCCETC’s Clean Transportation team is co-hosting this event.
URL:https://www.fuelwhatmatters.org/event/2024-sustainable-fleet-technology-webinar-series-off-road-electric-equipment/
CATEGORIES:Featured Home Event
ORGANIZER;CN="NAFA Fleet Management Association":MAILTO:info@nafa.org
END:VEVENT
BEGIN:VEVENT
DTSTART;TZID=UTC:20241012T090000
DTEND;TZID=UTC:20241012T120000
DTSTAMP:20260419T125243
CREATED:20241008T175944Z
LAST-MODIFIED:20241014T140403Z
UID:3088-1728723600-1728734400@www.fuelwhatmatters.org
SUMMARY:Wake Forest University versus Clemson Football Tailgate & EV Display
DESCRIPTION:On Saturday\, October 12\, 2024\, NC Clean Energy Technology Center highlights electric transportation at Wake Forest University in Winton-Salem NC with a tailgate and plug-in electric vehicle car show at WFU vs Clemson football game.  Due to game-day congestion & traffic\, we recommend attending only if you have tickets for the game or parking arrangements.  Limited space for EV owner display vehicles — only 10 to 12 EVs will fit\, and entry passes are limited.  Lunch or dinner and soft drinks are provided for volunteers.  Contact us soon to express interest!   Contact Heather Brutz at hmbrutz@ncsu.edu.   (Precise time of event will be updated when gametime is announced.) \nREGISTER HERE
URL:https://www.fuelwhatmatters.org/event/wake-forest-university-versus-clemson-football-tailgate-ev-display/
LOCATION:Allegacy Stadium\, Piccolo Lane Allegacy Federal Credit Union Stadium\, Winston-Salem\, NC\, 27105\, United States
CATEGORIES:Featured Home Event
END:VEVENT
BEGIN:VEVENT
DTSTART;TZID=UTC:20241005T160000
DTEND;TZID=UTC:20241005T200000
DTSTAMP:20260419T125243
CREATED:20240910T144137Z
LAST-MODIFIED:20241014T140403Z
UID:3066-1728144000-1728158400@www.fuelwhatmatters.org
SUMMARY:Drive Electric Car Show Fayetteville\, NC - NDEW Coalition Event
DESCRIPTION:Join Sustainable Sandhills\, sponsors\, and supporters at the biannual EV Car Show! Register to show your car\, contact us to sponsor\, and put the event in your calendars to attend this fall! Food trucks on site! \nOctober 5th\n4 pm – 8 pm\n2220 Hull Rd.\nFayetteville NC 28303\n\nREGISTER HERE
URL:https://www.fuelwhatmatters.org/event/drive-electric-car-show-fayetteville-nc-ndew-coalition-event/
LOCATION:FTCC Tony Rand Student Center\, 2220 Hull Rd\, Fayetteville\, NC\, 28303\, United States
CATEGORIES:Featured Home Event
END:VEVENT
BEGIN:VEVENT
DTSTART;TZID=UTC:20241005T120000
DTEND;TZID=UTC:20241005T180000
DTSTAMP:20260419T125243
CREATED:20240910T143905Z
LAST-MODIFIED:20241014T140403Z
UID:3062-1728129600-1728151200@www.fuelwhatmatters.org
SUMMARY:Tailgate & Car Show at NCSU v WFU Football Game - NDEW Coalition Event
DESCRIPTION:NC Clean Energy Technology Center celebrates National Drive Electric Week at NC State University in Raleigh NC with a tailgate and plug-in electric vehicle car show at NCSU vs Wake Forest University football game.  Due to game-day congestion & traffic\, we recommend attending only if you have tickets for the game or parking arrangements.  Limited space for EV owner display vehicles.  Only 10 to 12 EVs will fit\, and entry passes are limited.  Lunch or dinner and soft drinks are provided for volunteers.  Contact us soon to express interest!   Contact Heather Brutz at hmbrutz@ncsu.edu or 240-281-0234. \nREGISTER HERE
URL:https://www.fuelwhatmatters.org/event/tailgate-car-show-at-ncsu-v-wfu-football-game-ndew-coalition-event/
LOCATION:Close King Indoor Practice Facility\, 4550 Trinity Rd\, Raleigh\, NC\, 27607\, United States
CATEGORIES:Featured Home Event
END:VEVENT
BEGIN:VEVENT
DTSTART;TZID=UTC:20241005T100000
DTEND;TZID=UTC:20241005T140000
DTSTAMP:20260419T125243
CREATED:20240910T143305Z
LAST-MODIFIED:20241014T140403Z
UID:3051-1728122400-1728136800@www.fuelwhatmatters.org
SUMMARY:4th Annual Saint Matthews UMC Fall Festival - NDEW Coalition Event
DESCRIPTION:The Saint Matthews UMC Fall Festival is a fun approach to spreading the message of earth care and environmental advocacy.  The event is hosted by the church Creation Care Ministry and Samaritan Garden (community garden) project in coordination with the Western NC Conference (UNC)  Creation Care Team Ministry and the United Methodist Creation Justice Movement.  Sharing the Light of Christ!\n\nAdditional Invitees will include (not exclusive):\n\nCitizens’ Climate Lobby\nCity of Greensboro\nNC A&T State University\nUNC- Greensboro\nNC Cooperative Extension – Guilford County\, NC\nSecond Harvest Food Bank of NW NC\nElectric Motor Club of High Point\, NC\nGreensboro Fire Department\nBeyond Plastics Greensboro\nREGISTER HERE
URL:https://www.fuelwhatmatters.org/event/4th-annual-saint-matthews-umc-fall-festival-ndew-coalition-event/
LOCATION:Saint Matthews United Methodist Church\, 600 E. Florida Stm\, Greensboro\, NC\, 27406\, United States
CATEGORIES:Featured Home Event
END:VEVENT
BEGIN:VEVENT
DTSTART;TZID=UTC:20241004T100000
DTEND;TZID=UTC:20241004T150000
DTSTAMP:20260419T125243
CREATED:20240910T144504Z
LAST-MODIFIED:20241014T140403Z
UID:3070-1728036000-1728054000@www.fuelwhatmatters.org
SUMMARY:Clean Energy Expo - NDEW Coalition Event
DESCRIPTION:Join Roanoke Cooperative for a day of information and education about energy savings and access to broadband. In addition\, there will be the launch of the Make Your Move student challenge focused on sustainable transportation. \n  \nLEARN MORE
URL:https://www.fuelwhatmatters.org/event/clean-energy-expo-ndew-coalition-event/
LOCATION:Ahoskie Ampitheater\, 114 Lakeview Dr\, Ahoskie\, NC\, 27910\, United States
CATEGORIES:Featured Home Event
END:VEVENT
BEGIN:VEVENT
DTSTART;TZID=UTC:20241003T113000
DTEND;TZID=UTC:20241003T130000
DTSTAMP:20260419T125243
CREATED:20240910T145604Z
LAST-MODIFIED:20241014T140403Z
UID:3078-1727955000-1727960400@www.fuelwhatmatters.org
SUMMARY:Centennial Campus NDEW Event
DESCRIPTION:Join us to celebrate NCSU Energy Week at Venture Plaza at The Corner on NC State University’s Centennial Campus.\nCome learn about and experience electric vehicles. There will be food trucks. If you are an EV owner and would like\nto have your vehicle on display or provide rides\, we welcome that! Vehicles should set up between 10:30-11 AM; the\nevent starts at 11:30 AM. The display event ends at 2:00 PM. (Vehicle owners or dealers may continue giving rides up\nuntil 2pm.) \nREGISTER HERE
URL:https://www.fuelwhatmatters.org/event/centennial-campus-ndew-event/
LOCATION:Centennial Campus\, 830 Main Campus Dr\, Raleigh\, NC\, 27606\, United States
CATEGORIES:Featured Home Event
END:VEVENT
BEGIN:VEVENT
DTSTART;TZID=UTC:20240927T090000
DTEND;TZID=UTC:20240927T120000
DTSTAMP:20260419T125243
CREATED:20240910T143550Z
LAST-MODIFIED:20241014T140403Z
UID:3058-1727427600-1727438400@www.fuelwhatmatters.org
SUMMARY:"It's Electric!": NDEW@ The North Carolina Zoo Asheboro\, NC - Coalition Event
DESCRIPTION:Join Randolph EMC at the North Carolina Zoo for National Drive Electric Week!\nExperience different electric vehicle (EV) models and charging options on-site at the NC Zoo. We’ll have informational material about the benefits of EVs and knowledgeable EV owners and energy advisors available to share their insights. \nWHEN \n\nFriday\, September 27\, 2024\n9 a.m. – 12 noon\n“Floating Event”—Come anytime during these hours!\n\nWHERE\n\nNorth Carolina Zoo\n4401 Zoo Pkwy\nAsheboro\, N.C. 27205\nNorth America parking lot directly across from the Stedman Building\n\nWHO SHOULD ATTEND\n\nAnyone interested in learning about the potential capabilities of electric vehicles\nAnyone interested in the benefits of purchasing an EV\nCurrent EV owners of any make and model\nSchool educators and administrators\nBusiness professionals and owners\nZoo visitors\n\nThe first 100 event visitors will receive a free gift. \nPhotos from last year’s event.  \nREGISTER HERE
URL:https://www.fuelwhatmatters.org/event/its-electric-ndew-the-north-carolina-zoo-asheboro-nc-coalition-event/
LOCATION:North Carolina Zoo\, 4401 Zoo Parkway\, Asheboro\, NC\, 27205\, United States
CATEGORIES:Featured Home Event
END:VEVENT
BEGIN:VEVENT
DTSTART;TZID=UTC:20240813T080000
DTEND;TZID=UTC:20240815T170000
DTSTAMP:20260419T125243
CREATED:20240315T180441Z
LAST-MODIFIED:20240315T180441Z
UID:2937-1723536000-1723741200@www.fuelwhatmatters.org
SUMMARY:2024 SUSTAINABLE FLEET TECHNOLOGY CONFERENCE & EXPO
DESCRIPTION:
URL:https://www.fuelwhatmatters.org/event/2024-sustainable-fleet-technology-conference-expo/
CATEGORIES:Featured Home Event
ATTACH;FMTTYPE=image/png:https://www.fuelwhatmatters.org/wp-content/uploads/2024/03/SFT2024-Early-Bird-Registration-Graphic-1.png
END:VEVENT
BEGIN:VEVENT
DTSTART;VALUE=DATE:20240318
DTEND;VALUE=DATE:20240320
DTSTAMP:20260419T125243
CREATED:20240315T180350Z
LAST-MODIFIED:20240315T180350Z
UID:2934-1710720000-1710892799@www.fuelwhatmatters.org
SUMMARY:CLEAN TRANSPORTATION DEMONSTRATION DAYS
DESCRIPTION:
URL:https://www.fuelwhatmatters.org/event/clean-transportation-demonstration-days/
CATEGORIES:Featured Home Event
ATTACH;FMTTYPE=image/png:https://www.fuelwhatmatters.org/wp-content/uploads/2024/03/EO80-2024-CT-Demonstration-Days-Event-Image3.png
END:VEVENT
END:VCALENDAR