BEGIN:VCALENDAR
VERSION:2.0
PRODID:-//Fuel What Matters - ECPv6.14.2//NONSGML v1.0//EN
CALSCALE:GREGORIAN
METHOD:PUBLISH
X-WR-CALNAME:Fuel What Matters
X-ORIGINAL-URL:https://www.fuelwhatmatters.org
X-WR-CALDESC:Events for Fuel What Matters
REFRESH-INTERVAL;VALUE=DURATION:PT1H
X-Robots-Tag:noindex
X-PUBLISHED-TTL:PT1H
BEGIN:VTIMEZONE
TZID:UTC
BEGIN:STANDARD
TZOFFSETFROM:+0000
TZOFFSETTO:+0000
TZNAME:UTC
DTSTART:20240101T000000
END:STANDARD
END:VTIMEZONE
BEGIN:VEVENT
DTSTART;TZID=UTC:20240927T090000
DTEND;TZID=UTC:20240927T120000
DTSTAMP:20260419T143528
CREATED:20240910T143550Z
LAST-MODIFIED:20241014T140403Z
UID:3058-1727427600-1727438400@www.fuelwhatmatters.org
SUMMARY:"It's Electric!": NDEW@ The North Carolina Zoo Asheboro\, NC - Coalition Event
DESCRIPTION:Join Randolph EMC at the North Carolina Zoo for National Drive Electric Week!\nExperience different electric vehicle (EV) models and charging options on-site at the NC Zoo. We’ll have informational material about the benefits of EVs and knowledgeable EV owners and energy advisors available to share their insights. \nWHEN \n\nFriday\, September 27\, 2024\n9 a.m. – 12 noon\n“Floating Event”—Come anytime during these hours!\n\nWHERE\n\nNorth Carolina Zoo\n4401 Zoo Pkwy\nAsheboro\, N.C. 27205\nNorth America parking lot directly across from the Stedman Building\n\nWHO SHOULD ATTEND\n\nAnyone interested in learning about the potential capabilities of electric vehicles\nAnyone interested in the benefits of purchasing an EV\nCurrent EV owners of any make and model\nSchool educators and administrators\nBusiness professionals and owners\nZoo visitors\n\nThe first 100 event visitors will receive a free gift. \nPhotos from last year’s event.  \nREGISTER HERE
URL:https://www.fuelwhatmatters.org/event/its-electric-ndew-the-north-carolina-zoo-asheboro-nc-coalition-event/
LOCATION:North Carolina Zoo\, 4401 Zoo Parkway\, Asheboro\, NC\, 27205\, United States
CATEGORIES:Featured Home Event
END:VEVENT
BEGIN:VEVENT
DTSTART;TZID=UTC:20240813T080000
DTEND;TZID=UTC:20240815T170000
DTSTAMP:20260419T143528
CREATED:20240315T180441Z
LAST-MODIFIED:20240315T180441Z
UID:2937-1723536000-1723741200@www.fuelwhatmatters.org
SUMMARY:2024 SUSTAINABLE FLEET TECHNOLOGY CONFERENCE & EXPO
DESCRIPTION:
URL:https://www.fuelwhatmatters.org/event/2024-sustainable-fleet-technology-conference-expo/
LOCATION:NC
CATEGORIES:Featured Home Event
ATTACH;FMTTYPE=image/png:https://www.fuelwhatmatters.org/wp-content/uploads/2024/03/SFT2024-Early-Bird-Registration-Graphic-1.png
END:VEVENT
BEGIN:VEVENT
DTSTART;VALUE=DATE:20240318
DTEND;VALUE=DATE:20240320
DTSTAMP:20260419T143528
CREATED:20240315T180350Z
LAST-MODIFIED:20240315T180350Z
UID:2934-1710720000-1710892799@www.fuelwhatmatters.org
SUMMARY:CLEAN TRANSPORTATION DEMONSTRATION DAYS
DESCRIPTION:
URL:https://www.fuelwhatmatters.org/event/clean-transportation-demonstration-days/
LOCATION:NC
CATEGORIES:Featured Home Event
ATTACH;FMTTYPE=image/png:https://www.fuelwhatmatters.org/wp-content/uploads/2024/03/EO80-2024-CT-Demonstration-Days-Event-Image3.png
END:VEVENT
END:VCALENDAR